BEGIN:VCALENDAR
VERSION:2.0
PRODID:-//hacksw/handcal//NONSGML v1.0//EN
BEGIN:VEVENT
UID:69e9dde50b1e8
DTSTAMP:20260423T085253Z
DTSTART:20250111T190000Z
DTEND:20250111T203000Z
SUMMARY:LPMN: Bemidji Area Libertarians January Meetup
DESCRIPTION:<p>Come hang out with us in Bemidji and talk liberty and local events!</p><p><a href="https://lpmn.org/events/972">Read more</a></p>
X-ALT-DESC;FMTTYPE=text/html:<!doctype html><html><body><p>Come hang out with us in Bemidji and talk liberty and local events!</p><p><a href="https://lpmn.org/events/972">Read more</a></p></body></html>
LOCATION:Brigid's Pub, 317 Beltrami Ave NW, Bemidji, MN 56601
END:VEVENT
END:VCALENDAR