BEGIN:VCALENDAR
VERSION:2.0
PRODID:-//hacksw/handcal//NONSGML v1.0//EN
BEGIN:VEVENT
UID:69eb76d5c2bab
DTSTAMP:20260424T135741Z
DTSTART:20260507T190000Z
DTEND:20260507T200000Z
SUMMARY:LPMN: 2026 State Fair Cmte 1st Meeting
DESCRIPTION:<p>The first meeting of this year&#39;s State Fair Committee! We have a lot to work on and a lot to decide early on. Please reach out to info@lpmn.org if you are an LPMN member wishing to contribute to our State Fair planning.</p><p><a href="https://lpmn.org/events/2171">Read more</a></p>
X-ALT-DESC;FMTTYPE=text/html:<!doctype html><html><body><p>The first meeting of this year&#39;s State Fair Committee! We have a lot to work on and a lot to decide early on. Please reach out to info@lpmn.org if you are an LPMN member wishing to contribute to our State Fair planning.</p><p><a href="https://lpmn.org/events/2171">Read more</a></p></body></html>
LOCATION:
END:VEVENT
END:VCALENDAR