BEGIN:VCALENDAR
VERSION:2.0
PRODID:-//hacksw/handcal//NONSGML v1.0//EN
BEGIN:VEVENT
UID:69ec0ec7ee965
DTSTAMP:20260425T004559Z
DTSTART:20260616T190000Z
DTEND:20260616T200000Z
SUMMARY:LPMN: 2027 Convention Committee 1st Meeting
DESCRIPTION:<p>This is the first meeting of the committee which will plan and execute the 2027 LPMN Annual Convention. This meeting will establish roles and timelines for things like venue search and selection, agenda, entertainment (including decorations and speakers), credentialing, and setup and teardown.If you are an LPMN member interested in volunteering for one or more of these roles, please send an email to info@lpmn.org asking for the link to this meeting.</p><p><a href="https://lpmn.org/events/2170">Read more</a></p>
X-ALT-DESC;FMTTYPE=text/html:<!doctype html><html><body><p>This is the first meeting of the committee which will plan and execute the 2027 LPMN Annual Convention. This meeting will establish roles and timelines for things like venue search and selection, agenda, entertainment (including decorations and speakers), credentialing, and setup and teardown.If you are an LPMN member interested in volunteering for one or more of these roles, please send an email to info@lpmn.org asking for the link to this meeting.</p><p><a href="https://lpmn.org/events/2170">Read more</a></p></body></html>
LOCATION:
END:VEVENT
END:VCALENDAR