BEGIN:VCALENDAR
VERSION:2.0
PRODID:-//hacksw/handcal//NONSGML v1.0//EN
BEGIN:VEVENT
UID:69e998123053e
DTSTAMP:20260423T035458Z
DTSTART:20260504T190000Z
DTEND:20260504T200000Z
SUMMARY:LPMN: Special Executive Cmte Meeting
DESCRIPTION:<p>Per a motion passed at the regular EC meeting on Monday, April 20, 2026, there will be a Special EC Meeting on Monday, May 4th at 7pm to fill vacant delegate and alternate seats in the LPMN&#39;s delegation to the 2026 Libertarian National Convention and assign instructions for the delegation.Any LPMN member wishing to attend this meeting, either to observe or to be nominated for one of the open seats, should contact info@lpmn.org to request the meeting link.</p><p><a href="https://lpmn.org/events/2169">Read more</a></p>
X-ALT-DESC;FMTTYPE=text/html:<!doctype html><html><body><p>Per a motion passed at the regular EC meeting on Monday, April 20, 2026, there will be a Special EC Meeting on Monday, May 4th at 7pm to fill vacant delegate and alternate seats in the LPMN&#39;s delegation to the 2026 Libertarian National Convention and assign instructions for the delegation.Any LPMN member wishing to attend this meeting, either to observe or to be nominated for one of the open seats, should contact info@lpmn.org to request the meeting link.</p><p><a href="https://lpmn.org/events/2169">Read more</a></p></body></html>
LOCATION:
END:VEVENT
END:VCALENDAR