BEGIN:VCALENDAR
VERSION:2.0
PRODID:-//hacksw/handcal//NONSGML v1.0//EN
BEGIN:VEVENT
UID:69e5f7f8f3c19
DTSTAMP:20260420T095504Z
DTSTART:20250116T183000Z
DTEND:20250116T194500Z
SUMMARY:LPMN: CD2 Live Free January Meetup
DESCRIPTION:<p>We&#39;re back in the new year at Triggers in Prior Lake!</p><p><a href="https://lpmn.org/events/1005">Read more</a></p>
X-ALT-DESC;FMTTYPE=text/html:<!doctype html><html><body><p>We&#39;re back in the new year at Triggers in Prior Lake!</p><p><a href="https://lpmn.org/events/1005">Read more</a></p></body></html>
LOCATION:Triggers, 2920 220th St E, Prior Lake, MN 55372
END:VEVENT
END:VCALENDAR